BEGIN:VCALENDAR
PRODID:-//eluceo/ical//2.0/EN
VERSION:2.0
CALSCALE:GREGORIAN
BEGIN:VEVENT
UID:41255f2074504d26ce93f241db5c48a4
DTSTAMP:20260424T132137Z
SUMMARY:»Zen-Retreat für Frauen – Die Kraft der Durchlässigkeit« 30.0
 9.-04.10.2026
DESCRIPTION:Zen-Retreat für Frauen – Die Kraft der Durchlässigkeit\nSei
  wie Wasser\, das jede Form annimmt und dennoch nie seine Natur verliert.\
 nDieses Retreat ist eine Einladung an Frauen\, sich in einem geschützten 
 Raum der Stille und Klarheit zu versammeln – um zu sitzen\, zu lauschen\
 , zu atmen und zu erkennen: Durchlässigkeit ist keine Schwäche. Sie ist 
 eine Fähigkeit\, die Welt tief zu spüren\, ohne von ihr überwältigt zu
  werden. Sie ist die Weisheit des Körpers\, die Intuition des Herzens\, d
 ie Offenheit des Geistes.\nIm Zen üben wir\, ganz da zu sein – in jedem
  Atemzug\, in jedem Schritt\, in jeder Begegnung mit uns selbst. Durchläs
 sigkeit bedeutet hier nicht\, sich aufzugeben\, sondern sich einzulassen. 
 Auf das\, was ist. Auf das\, was sich zeigt. Auf das\, was durch uns hindu
 rch will – ohne Widerstand\, ohne Urteil.\nUnser Tenzo ist Rabea.\nIn ge
 meinsamer Stille\, achtsamer Bewegung (Kinhin) und Gesprächen wollen wir 
 die Kraft entdecken\, die darin liegt\, weich zu sein in einer oft harten 
 Welt. Wir stärken uns gegenseitig\, indem wir einander Raum geben – fü
 r Schmerz\, für Lachen\, für das Nichtwissen.\nDieses Retreat richtet si
 ch an Frauen\, die sich nach Verbundenheit sehnen – mit sich selbst\, mi
 t der Natur\, mit einer Praxis\, die jenseits von Dogmen lebt. Es ist offe
 n für alle Erfahrungsstufen. Was du mitbringst\, ist genug.\n„Werde wie
  ein hohles Bambusrohr“\, sagte Dogen – „durch das der Wind des Dhar
 ma wehen kann.“
DTSTART:20260930
DTEND:20261005
LOCATION:ZEN ZENTRUM ALTBÄCKERSMÜHLE Singhofen\, Rheinland-Pfalz 56379 De
 utschland
END:VEVENT
END:VCALENDAR
